BEGIN:VCALENDAR
VERSION:2.0
PRODID:-//PK Posejdon - ECPv6.15.20//NONSGML v1.0//EN
CALSCALE:GREGORIAN
METHOD:PUBLISH
X-WR-CALNAME:PK Posejdon
X-ORIGINAL-URL:https://www.pk-posejdon.hr
X-WR-CALDESC:Događaji za PK Posejdon
REFRESH-INTERVAL;VALUE=DURATION:PT1H
X-Robots-Tag:noindex
X-PUBLISHED-TTL:PT1H
BEGIN:VTIMEZONE
TZID:UTC
BEGIN:STANDARD
TZOFFSETFROM:+0000
TZOFFSETTO:+0000
TZNAME:UTC
DTSTART:20190101T000000
END:STANDARD
END:VTIMEZONE
BEGIN:VEVENT
DTSTART;TZID=UTC:20200104T120000
DTEND;TZID=UTC:20200104T170000
DTSTAMP:20260424T142959
CREATED:20191224T223924Z
LAST-MODIFIED:20191225T135600Z
UID:1937-1578139200-1578157200@www.pk-posejdon.hr
SUMMARY:Veteransko natjecanje Velenje 2020.
DESCRIPTION:Organizator: Plavalni klub Velenje \nStartnina: 15 € \nGdje: Zatvoreni bazen u Velenju\, 25 m\, 6 pruga\, voda 27 ºC\nStartnina: 15 € uplativo na licu mjesta\nRasplivavanje: od 12:00\nPočetak natjecanja: 13:00\nKategorije: 18-24\, 25-29\, 30-34\, 35-39\, 40-44\, 45-49\, 50-54\, 55-59\, 60-64\, 65-69\, 70-74\, 75-79\, 80-84\, 85-89\, 90+\nPrijave: Timing PZS\, do 30.12. 2019 ili na mail: katarina.praznik@guest.arnes.si\nBroj nastupa: plivač može nastupiti na u najviše tri (3) utrke\nProgram natjecanja:\n1. 400 m slobodno\n2. 100 m prsno\n3. 50 m delfin\n4. 100 m leđno\n5. 50 m prosto\n6. 200 m mješovito\nNagrade: tri najbolje bodovana plivača (neovisno o spolu) u svakoj disciplini\, osvajaju medalje
URL:https://www.pk-posejdon.hr/natjecanje/veteransko-natjecanje-velenje-2020/
LOCATION:Bazen Velenje\, Kopališka cesta 2\, Velenje\, 3320\, Slovenia
END:VEVENT
END:VCALENDAR