BEGIN:VCALENDAR
VERSION:2.0
PRODID:-//PK Posejdon - ECPv6.15.20//NONSGML v1.0//EN
CALSCALE:GREGORIAN
METHOD:PUBLISH
X-ORIGINAL-URL:https://www.pk-posejdon.hr
X-WR-CALDESC:Događaji za PK Posejdon
REFRESH-INTERVAL;VALUE=DURATION:PT1H
X-Robots-Tag:noindex
X-PUBLISHED-TTL:PT1H
BEGIN:VTIMEZONE
TZID:UTC
BEGIN:STANDARD
TZOFFSETFROM:+0000
TZOFFSETTO:+0000
TZNAME:UTC
DTSTART:20190101T000000
END:STANDARD
END:VTIMEZONE
BEGIN:VEVENT
DTSTART;TZID=UTC:20251129T140000
DTEND;TZID=UTC:20251129T200000
DTSTAMP:20260424T142441
CREATED:20251104T190006Z
LAST-MODIFIED:20251113T173427Z
UID:3554-1764424800-1764446400@www.pk-posejdon.hr
SUMMARY:Jesenski plavalni izziv 2025.
DESCRIPTION:Gdje: \n\nLjubljana\, kupalište TIVOLI\, 25 metarski bazen\n\nPrijave: \n\npreko prijavnice na web stranici www.riba-drustvo.si\, do četvrtka 27.11.2025.\nhttps://riba-drustvo.si/tekme/jesenski-plavalni-izziv-2025/\n\nSatnica (okvirna): \n\n14:00 – 15:00 prijave i rasplivavanje\n15:00 – 18:00 natjecanje\n18:00 na dalje – druženje\n\nDiscipline: \n\n200 mešano\n25 prsno**\n100 prosto\n50 hrbtno\n200 prosto\n50 prsno\n100 mešano\n25 prosto**\n400 prosto (400 mešano)\n50 delfin\n100 hrbtno\n50 prosto\n100 prsno\n4×50 vesela štafeta: slobodno (mix)*\n\n* Na prijavnici označiti da želite plivati štafetu. Ekipe će se metodom izvlačenja formirati na bazenu. \n** 25 m disciplina za neregistrirane plavalce \nKategorije: \n\ndo 18 let\, 18 – 24\, 25–29\, 30–34\, 35–39\, 40–44\, 45–49\, 50–54\, 55–59\, 60–64\, 65–69\, 70–74\, 75–79\, 80–84\, 85–89\, 90 +\n\nPravila natjecanja: \n\nnastupati mogu plivači iz Slovenije i inozemstva (mi sada spadamo u inozemce :-)).\nstartna lista će se izraditi po prijavljenim vremenima\nsvaki natjecatelj ima pravo nastupiti na max. 6 pojedinačnih utrka + štafeta\n\nStartnina: \n\n30 EUR (do 6 startova i štafeta)\n8 EUR za plivače koji nastupaju samo u štafeti\n8 EUR za plivače koji plivaju 25 m dsicipline (rekreativci početnicic)\n\nNagrade: \n\nMedalje za najbolja tri po zbroju bodova u tri discipline\nNagrade za tri najbrže štafete\n\nDodatne informacije: \n\nbarbara@riba-drustvo.si\na+ 386 (0) 31 742-782
URL:https://www.pk-posejdon.hr/natjecanje/jesenski-plavalni-izziv-2025/
LOCATION:Bazen Tivoli\, Celovška cesta 25\, Ljubljana\, 1000\, Slovenia
ATTACH;FMTTYPE=image/jpeg:https://www.pk-posejdon.hr/wp-content/uploads/2025/11/Tivoli.jpg
ORGANIZER;CN="%C5%A0D Riba":MAILTO:barbara@riba-drustvo.si
END:VEVENT
BEGIN:VEVENT
DTSTART;TZID=UTC:20240602T090000
DTEND;TZID=UTC:20240602T150000
DTSTAMP:20260424T142441
CREATED:20240416T192704Z
LAST-MODIFIED:20240416T194354Z
UID:3091-1717318800-1717340400@www.pk-posejdon.hr
SUMMARY:Veteransko pokalno tekmovanje Krško 2024.
DESCRIPTION:Ukratko: \nGdje: \n\nSlovenija\, Krško – Brestanica (Jetrno selo 2\, 8280 Brestanica) – 50 m pruge\n\nKada: \n\nNedjelja 02.06.2024. od 09:00\n\nStartnina: \n\nStartni paket 30 eur (5 utrka\, majica)\n\nMjerenje vremena: \n\nElektronsko\, Timing Ljubljana\n\nPrijave: \n\nNajkasnije do četvrtka 30.05.2024. preko web stranice organizatora\n\nŠto se pliva: \n\n400 Sl\, 50 P\, 100 L\, 200 M\,  50 Sl\, 100 P\, 200 L\, 50 D\, 100 Sl\, 200 P\, 50 L\, 4×50 Sl štafeta (MIX)\, 1500 Sl\n\nOkvirna satnica: \n\n9:00 – 9:45 prijave\, rasplivavanje\n9:45 – 10:00 ceremonija otvaranja\n10:00 – 14:00 natjecanje\n14:00 proglašenje najboljih rezultata\n\nKategorije: \n\nStandardne veteranske World aquatics kategorije (25-29\, 30-34\, 35-39\,…)\n\nDodatne informacije: \n\npkcelulozar@gmail.com ili na telefon +386 51 363 496 (Nika)\n\n\nRaspis Propozicija \n 
URL:https://www.pk-posejdon.hr/natjecanje/veteransko-pokalno-tekmovanje-krsko-2024/
LOCATION:Bazen Brestanica\, Jetrno selo 2\, Brestanica\, 8280\, Slovenia
ATTACH;FMTTYPE=image/jpeg:https://www.pk-posejdon.hr/wp-content/uploads/2024/04/Bazen-Brestanica.jpg
ORGANIZER;CN="PK Celulozar Kr%C5%A1ko":MAILTO:https://www.plavalniklub-celulozar.si
END:VEVENT
BEGIN:VEVENT
DTSTART;TZID=UTC:20200104T120000
DTEND;TZID=UTC:20200104T170000
DTSTAMP:20260424T142441
CREATED:20191224T223924Z
LAST-MODIFIED:20191225T135600Z
UID:1937-1578139200-1578157200@www.pk-posejdon.hr
SUMMARY:Veteransko natjecanje Velenje 2020.
DESCRIPTION:Organizator: Plavalni klub Velenje \nStartnina: 15 € \nGdje: Zatvoreni bazen u Velenju\, 25 m\, 6 pruga\, voda 27 ºC\nStartnina: 15 € uplativo na licu mjesta\nRasplivavanje: od 12:00\nPočetak natjecanja: 13:00\nKategorije: 18-24\, 25-29\, 30-34\, 35-39\, 40-44\, 45-49\, 50-54\, 55-59\, 60-64\, 65-69\, 70-74\, 75-79\, 80-84\, 85-89\, 90+\nPrijave: Timing PZS\, do 30.12. 2019 ili na mail: katarina.praznik@guest.arnes.si\nBroj nastupa: plivač može nastupiti na u najviše tri (3) utrke\nProgram natjecanja:\n1. 400 m slobodno\n2. 100 m prsno\n3. 50 m delfin\n4. 100 m leđno\n5. 50 m prosto\n6. 200 m mješovito\nNagrade: tri najbolje bodovana plivača (neovisno o spolu) u svakoj disciplini\, osvajaju medalje
URL:https://www.pk-posejdon.hr/natjecanje/veteransko-natjecanje-velenje-2020/
LOCATION:Bazen Velenje\, Kopališka cesta 2\, Velenje\, 3320\, Slovenia
END:VEVENT
END:VCALENDAR